BEGIN:VCALENDAR
VERSION:2.0
PRODID:-//Formations construction sur mesure - ECPv6.15.20//NONSGML v1.0//EN
CALSCALE:GREGORIAN
METHOD:PUBLISH
X-WR-CALNAME:Formations construction sur mesure
X-ORIGINAL-URL:https://formationsurmesureconstruction.com
X-WR-CALDESC:Événements pour Formations construction sur mesure
REFRESH-INTERVAL;VALUE=DURATION:PT1H
X-Robots-Tag:noindex
X-PUBLISHED-TTL:PT1H
BEGIN:VTIMEZONE
TZID:UTC
BEGIN:STANDARD
TZOFFSETFROM:+0000
TZOFFSETTO:+0000
TZNAME:UTC
DTSTART:20240101T000000
END:STANDARD
END:VTIMEZONE
BEGIN:VEVENT
DTSTART;TZID=UTC:20250125T080000
DTEND;TZID=UTC:20250126T040000
DTSTAMP:20260420T160035
CREATED:20241220T015316Z
LAST-MODIFIED:20250123T145905Z
UID:1170-1737792000-1737864000@formationsurmesureconstruction.com
SUMMARY:Formation maçonnerie #01 Trois-Rivières - Durée 2 jours
DESCRIPTION:Formation en Maçonnerie #01 \n2 Jours\nApprenez les bases et les techniques avancées de la maçonnerie en seulement 2 jours ! Cette formation pratique vous guidera à travers la réparation\, la restauration\, et l’installation de structures en briques\, pierres et béton. Repartez avec des compétences solides pour vos projets résidentiels ou commerciaux. \nQuelques points clés de la formation en maconnerie #01\n\nPose de brique\nCalculs\nPréparation des niveaux\nManipulation de la truelle\nPose de mortier\nComment installer un mortier sur la brique\nVérification des niveaux\nDifférente sorte de joints\nFinition\n…\n\nInscrivez-vous et bâtissez votre savoir-faire dès aujourd’hui !\n			\n			\n				\n				\n				\n				\n			\n				\n				\n			\n				\n				\n				\n				\n				\n				\n				\n				\n				\n				\n				\n				\n				\n				Inscription
URL:https://formationsurmesureconstruction.com/formation/formation-maconnerie/
ATTACH;FMTTYPE=image/jpeg:https://formationsurmesureconstruction.com/wp-content/uploads/2024/12/3-45f85d39-e1bb-4201-9010-07287c71be32-912x512.jpg
ORGANIZER;CN="John Rousseau":MAILTO:johnrousseau1968@gmail.com
END:VEVENT
END:VCALENDAR